BEGIN:VCALENDAR
VERSION:2.0
PRODID:-//Belfast Garden Club - ECPv6.15.20//NONSGML v1.0//EN
CALSCALE:GREGORIAN
METHOD:PUBLISH
X-ORIGINAL-URL:https://belfastgardenclub.org
X-WR-CALDESC:Events for Belfast Garden Club
REFRESH-INTERVAL;VALUE=DURATION:PT1H
X-Robots-Tag:noindex
X-PUBLISHED-TTL:PT1H
BEGIN:VTIMEZONE
TZID:UTC
BEGIN:STANDARD
TZOFFSETFROM:+0000
TZOFFSETTO:+0000
TZNAME:UTC
DTSTART:20200101T000000
END:STANDARD
END:VTIMEZONE
BEGIN:VEVENT
DTSTART;TZID=UTC:20210518T133000
DTEND;TZID=UTC:20210518T143000
DTSTAMP:20260423T231108
CREATED:20210204T011356Z
LAST-MODIFIED:20210317T022952Z
UID:2806-1621344600-1621348200@belfastgardenclub.org
SUMMARY:Membership meeting
DESCRIPTION:Non-members may join the meeting by sending e-mail to belfastgardenclub@gmail.com – put Membership Meeting in the subject line. You will receive a Zoom link prior to the meeting.
URL:https://belfastgardenclub.org/event/membership-meeting-4/
END:VEVENT
BEGIN:VEVENT
DTSTART;TZID=UTC:20210503T100000
DTEND;TZID=UTC:20210503T113000
DTSTAMP:20260423T231109
CREATED:20210204T010154Z
LAST-MODIFIED:20210317T023457Z
UID:2784-1620036000-1620041400@belfastgardenclub.org
SUMMARY:Board meeting
DESCRIPTION:Members may register by sending e-mail to belfastgardenclub@gmail.com – put Board Meeting in the subject line. A Zoom link will be sent out prior to the meeting.
URL:https://belfastgardenclub.org/event/board-meeting-5/
END:VEVENT
BEGIN:VEVENT
DTSTART;TZID=UTC:20210420T133000
DTEND;TZID=UTC:20210420T143000
DTSTAMP:20260423T231109
CREATED:20210204T011302Z
LAST-MODIFIED:20210317T022824Z
UID:2804-1618925400-1618929000@belfastgardenclub.org
SUMMARY:Membership meeting
DESCRIPTION:Non-members may join the meeting by sending e-mail to belfastgardenclub@gmail.com – put Membership Meeting in the subject line. You will receive a Zoom link prior to the meeting.
URL:https://belfastgardenclub.org/event/membership-meeting-3/
END:VEVENT
BEGIN:VEVENT
DTSTART;TZID=UTC:20210420T120000
DTEND;TZID=UTC:20210420T130000
DTSTAMP:20260423T231109
CREATED:20210101T030229Z
LAST-MODIFIED:20210406T190253Z
UID:2639-1618920000-1618923600@belfastgardenclub.org
SUMMARY:Monarchs\, Milkweed and Migration
DESCRIPTION:Speaker: Cyrene Slegona \nClick here to register
URL:https://belfastgardenclub.org/event/monarchs-milkweed-and-migration/
END:VEVENT
BEGIN:VEVENT
DTSTART;TZID=UTC:20210405T100000
DTEND;TZID=UTC:20210405T113000
DTSTAMP:20260423T231109
CREATED:20210204T010059Z
LAST-MODIFIED:20210317T023341Z
UID:2782-1617616800-1617622200@belfastgardenclub.org
SUMMARY:Board meeting
DESCRIPTION:Members may register by sending e-mail to belfastgardenclub@gmail.com – put Board Meeting in the subject line. A Zoom link will be sent out prior to the meeting.
URL:https://belfastgardenclub.org/event/board-meeting-4/
END:VEVENT
BEGIN:VEVENT
DTSTART;TZID=UTC:20210325T183000
DTEND;TZID=UTC:20210325T193000
DTSTAMP:20260423T231109
CREATED:20210303T222233Z
LAST-MODIFIED:20210303T222855Z
UID:2905-1616697000-1616700600@belfastgardenclub.org
SUMMARY:Browntail Moth in Waldo County
DESCRIPTION:Tom Schmeelk\, State Entomologist\nResponding to the acute infestation in Belfast and surroundings\, we will learn about how to protect ourselves\, and how as a community we can work to curb the problem.\nRegister in advance for this program:\nhttps://networkmaine.zoom.us/meeting/register/tZYkdOCprD0jEtKeM7BQ-wa6pUkOiisAD30H
URL:https://belfastgardenclub.org/event/browntail-moth-in-waldo-county/
LOCATION:By zoom
END:VEVENT
BEGIN:VEVENT
DTSTART;TZID=UTC:20210324T100000
DTEND;TZID=UTC:20210324T113000
DTSTAMP:20260423T231109
CREATED:20210120T195040Z
LAST-MODIFIED:20210127T222800Z
UID:2699-1616580000-1616585400@belfastgardenclub.org
SUMMARY:Readers and Weeders
DESCRIPTION:Mary Davis and Astrid Bowlby will discuss some of the books donated to Belfast Free Library. To register\, send email to belfastgardenclub@gmail.com with  “March Book Review Zoom Registration” in subject line. The Zoom link will be emailed the morning of the Zoom.
URL:https://belfastgardenclub.org/event/readers-and-weeders/
END:VEVENT
BEGIN:VEVENT
DTSTART;TZID=UTC:20210323T183000
DTEND;TZID=UTC:20210323T193000
DTSTAMP:20260423T231109
CREATED:20210101T025825Z
LAST-MODIFIED:20210101T025825Z
UID:2637-1616524200-1616527800@belfastgardenclub.org
SUMMARY:Gardens of Use and Delight
DESCRIPTION:Speaker: Anne Perkins
URL:https://belfastgardenclub.org/event/gardens-of-use-and-delight/
END:VEVENT
BEGIN:VEVENT
DTSTART;TZID=UTC:20210316T133000
DTEND;TZID=UTC:20210316T143000
DTSTAMP:20260423T231109
CREATED:20210204T011220Z
LAST-MODIFIED:20210204T011220Z
UID:2802-1615901400-1615905000@belfastgardenclub.org
SUMMARY:Membership meeting
DESCRIPTION:
URL:https://belfastgardenclub.org/event/membership-meeting-2/
END:VEVENT
BEGIN:VEVENT
DTSTART;TZID=UTC:20210316T120000
DTEND;TZID=UTC:20210316T130000
DTSTAMP:20260423T231109
CREATED:20210101T025639Z
LAST-MODIFIED:20210101T025639Z
UID:2635-1615896000-1615899600@belfastgardenclub.org
SUMMARY:Vegetable Gardening for Beginners
DESCRIPTION:Speaker: Viña Lindley
URL:https://belfastgardenclub.org/event/vegetable-gardening-for-beginners/
END:VEVENT
BEGIN:VEVENT
DTSTART;TZID=UTC:20210301T100000
DTEND;TZID=UTC:20210301T113000
DTSTAMP:20260423T231109
CREATED:20210204T010006Z
LAST-MODIFIED:20210204T010006Z
UID:2780-1614592800-1614598200@belfastgardenclub.org
SUMMARY:Board meeting
DESCRIPTION:
URL:https://belfastgardenclub.org/event/board-meeting-3/
END:VEVENT
BEGIN:VEVENT
DTSTART;TZID=UTC:20210224T100000
DTEND;TZID=UTC:20210224T113000
DTSTAMP:20260423T231109
CREATED:20210120T195355Z
LAST-MODIFIED:20210127T223019Z
UID:2703-1614160800-1614166200@belfastgardenclub.org
SUMMARY:Weeders and Readers
DESCRIPTION:Mary Davis and Astrid Bowlby will discuss some of the books donated to Belfast Free Library. To register\, send email to belfastgardenclub@gmail.com with “February Book Review Zoom Registration” in subject line. The Zoom link will be emailed the morning of the Zoom.
URL:https://belfastgardenclub.org/event/weeders-and-readers/
END:VEVENT
BEGIN:VEVENT
DTSTART;TZID=UTC:20210223T183000
DTEND;TZID=UTC:20210223T193000
DTSTAMP:20260423T231109
CREATED:20210101T025438Z
LAST-MODIFIED:20210101T025438Z
UID:2633-1614105000-1614108600@belfastgardenclub.org
SUMMARY:Woodland Plants: Natives and Rarities Around the Globe​
DESCRIPTION:Speaker: Rick Sawyer
URL:https://belfastgardenclub.org/event/woodland-plants-natives-and-rarities-around-the-globe%e2%80%8b/
END:VEVENT
BEGIN:VEVENT
DTSTART;TZID=UTC:20210216T133000
DTEND;TZID=UTC:20210216T143000
DTSTAMP:20260423T231109
CREATED:20210204T011104Z
LAST-MODIFIED:20210204T011104Z
UID:2800-1613482200-1613485800@belfastgardenclub.org
SUMMARY:Membership meeting
DESCRIPTION:
URL:https://belfastgardenclub.org/event/membership-meeting/
END:VEVENT
BEGIN:VEVENT
DTSTART;TZID=UTC:20210216T120000
DTEND;TZID=UTC:20210216T130000
DTSTAMP:20260423T231109
CREATED:20210101T025249Z
LAST-MODIFIED:20210101T025249Z
UID:2631-1613476800-1613480400@belfastgardenclub.org
SUMMARY:Pond life: Under the ice from winter into spring
DESCRIPTION:Speaker: Edwin Barkdoll
URL:https://belfastgardenclub.org/event/pond-life-under-the-ice-from-winter-into-spring-2/
END:VEVENT
BEGIN:VEVENT
DTSTART;TZID=UTC:20210201T100000
DTEND;TZID=UTC:20210201T113000
DTSTAMP:20260423T231109
CREATED:20210204T005819Z
LAST-MODIFIED:20210204T005819Z
UID:2778-1612173600-1612179000@belfastgardenclub.org
SUMMARY:Board meeting
DESCRIPTION:
URL:https://belfastgardenclub.org/event/board-meeting-2/
END:VEVENT
BEGIN:VEVENT
DTSTART;TZID=UTC:20210126T183000
DTEND;TZID=UTC:20210126T193000
DTSTAMP:20260423T231109
CREATED:20210101T022043Z
LAST-MODIFIED:20210121T234645Z
UID:2619-1611685800-1611689400@belfastgardenclub.org
SUMMARY:Maine wild blueberry history
DESCRIPTION:Speaker: David Yarborough emeritus professor of horticulture and blueberry specialist at the University of Maine.  \nClick here to register for this presentation  https://networkmaine.zoom.us/meeting/register/tZUkdu-qqzsjGNVG7HURtaGqZwKndpL2uWnS \n 
URL:https://belfastgardenclub.org/event/maine-wild-blueberry-history/
LOCATION:By zoom
END:VEVENT
BEGIN:VEVENT
DTSTART;TZID=UTC:20210119T120000
DTEND;TZID=UTC:20210119T130000
DTSTAMP:20260423T231109
CREATED:20210101T021555Z
LAST-MODIFIED:20210101T024530Z
UID:2617-1611057600-1611061200@belfastgardenclub.org
SUMMARY:Increasing biodiversity on a landscape scale: invasive plant removal and native shrub planting
DESCRIPTION:Speaker: Jack Shaida
URL:https://belfastgardenclub.org/event/increasing-biodiversity-on-a-landscape-scale-invasive-plant-removal-and-native-shrub-planting-at-the-mclellan-poor-preserve-and-other-coastal-mountains-land-trust-properties/
END:VEVENT
BEGIN:VEVENT
DTSTART;TZID=UTC:20210104T100000
DTEND;TZID=UTC:20210104T113000
DTSTAMP:20260423T231109
CREATED:20201230T174910Z
LAST-MODIFIED:20201230T175043Z
UID:2615-1609754400-1609759800@belfastgardenclub.org
SUMMARY:Board meeting
DESCRIPTION:
URL:https://belfastgardenclub.org/event/board-meeting/
END:VEVENT
END:VCALENDAR